BEGIN:VCALENDAR
PRODID:-//github.com/ical-org/ical.net//NONSGML ical.net 5.1.3//EN
VERSION:2.0
BEGIN:VEVENT
DESCRIPTION:The Government of Iceland in collaboration with the Nordic Coun
 cil of Ministers is hosting an International Symposium on Plastics in the 
 Arctic and Sub-Arctic Region in April 2020 in connection with the Icelandi
 c Chairmanship of the Arctic Council.
DTEND:20210304T000000Z
DTSTAMP:20260421T011900Z
DTSTART:20210302T000000Z
LAST-MODIFIED:20200623T143916Z
LOCATION:Reykjavík\, Iceland
SEQUENCE:0
SUMMARY:International Symposium on Plastics in the Arctic and Sub-Arctic Re
 gion
UID:0c61e6ef-119c-4747-aa66-16f889ff7d37@www.uarctic.org
URL:https://www.uarctic.org/about-us/calendar/international-symposium-on-pl
 astics-in-the-arctic-and-sub-arctic-region/
END:VEVENT
END:VCALENDAR
