BEGIN:VCALENDAR
PRODID:-//github.com/ical-org/ical.net//NONSGML ical.net 5.1.3//EN
VERSION:2.0
BEGIN:VEVENT
DESCRIPTION:Communicating Energy and Climate Science: Delivering Benefits t
 o Northern Communities!
DTEND:20150204T170000Z
DTSTAMP:20260419T192943Z
DTSTART:20150202T090000Z
LAST-MODIFIED:20141105T123515Z
LOCATION:Jokkmokk\, Sweden
SEQUENCE:0
SUMMARY:Jokkmokk Winter Conference 2015
UID:c6627aab-800b-4d4b-88d2-eb408da57392@www.uarctic.org
URL:https://www.uarctic.org/about-us/calendar/jokkmokk-winter-conference-20
 15/
END:VEVENT
END:VCALENDAR
