BEGIN:VCALENDAR
PRODID:-//github.com/ical-org/ical.net//NONSGML ical.net 5.1.3//EN
VERSION:2.0
BEGIN:VEVENT
DESCRIPTION:The Anniversary of the Magna Charta Universitatum (MCU2020) wi
 ll be taking place from 11-13 November 2025 at King's College London\, UK
 .
DTEND:20251113T120000Z
DTSTAMP:20260421T152324Z
DTSTART:20251111T120000Z
LAST-MODIFIED:20250214T142634Z
LOCATION:London\, UK
SEQUENCE:0
SUMMARY:Magna Charta Universitatum Anniversary (MCU2020)
UID:3420b556-be6f-431f-97fb-efe4d14dbb68@www.uarctic.org
URL:https://www.uarctic.org/about-us/calendar/magna-charta-universitatum-an
 niversary-mcu2020/
END:VEVENT
END:VCALENDAR
