BEGIN:VCALENDAR
PRODID:-//github.com/ical-org/ical.net//NONSGML ical.net 5.1.3//EN
VERSION:2.0
BEGIN:VEVENT
DESCRIPTION:The Model Arctic Council is an experiential learning exercise i
 n which university students (bachelors\, masters and Ph.D.) from universit
 ies across Arctic countries and the world convene to represent and simulat
 e the work of Member States\, Permanent Participants\, and Observers of th
 e Arctic Council.
DTEND:20160315T210000Z
DTSTAMP:20260420T062223Z
DTSTART:20160309T090000Z
LAST-MODIFIED:20151104T134121Z
LOCATION:Fairbanks\, Alaska
SEQUENCE:0
SUMMARY:Model Arctic Council 2016\, Fairbanks
UID:56b360df-9b28-4824-82dc-eb2de689f45a@www.uarctic.org
URL:https://www.uarctic.org/about-us/calendar/model-arctic-council-2016-fai
 rbanks/
END:VEVENT
END:VCALENDAR
