BEGIN:VCALENDAR
PRODID:-//github.com/ical-org/ical.net//NONSGML ical.net 5.1.3//EN
VERSION:2.0
BEGIN:VEVENT
DESCRIPTION:The goal of the Northern Sustainable Development Forum is to br
 ing together the most prominent experts of the circumpolar and Asian count
 ries for future project activities. Yakutia can become a bridge joining th
 e Arctic and Asia. The participants of the Forum will represent various fi
 elds of expertise: academia\, officialdom\, community service and business
 .
DTEND:20190928T170000Z
DTSTAMP:20260421T042952Z
DTSTART:20190924T090000Z
LAST-MODIFIED:20190412T111355Z
LOCATION:Yakutsk\, Sakha Republic (Yakutia)\, Russian Federation
SEQUENCE:0
SUMMARY:Northern Sustainable Development Forum\, Yakutsk
UID:2bf1820d-8e3e-48db-b1e1-c3ca00967ceb@www.uarctic.org
URL:https://www.uarctic.org/about-us/calendar/northern-sustainable-developm
 ent-forum-yakutsk/
END:VEVENT
END:VCALENDAR
