BEGIN:VCALENDAR
PRODID:-//github.com/ical-org/ical.net//NONSGML ical.net 5.1.3//EN
VERSION:2.0
BEGIN:VEVENT
DESCRIPTION:The University of Alaska Fairbanks Center for One Health Resear
 ch will host One Health\, One Future March 11-14\, 2020. Registration ope
 ns Oct. 1\, 2019.
DTEND:20200314T180000Z
DTSTAMP:20260421T113730Z
DTSTART:20200311T090000Z
LAST-MODIFIED:20200318T083327Z
LOCATION:Alaska\, Fairbanks
SEQUENCE:0
SUMMARY:One Health\, One Future 2020
UID:8b6eead0-ea96-4f2f-98f4-1179269c6533@www.uarctic.org
URL:https://www.uarctic.org/about-us/calendar/one-health-one-future-2020/
END:VEVENT
END:VCALENDAR
