BEGIN:VCALENDAR
PRODID:-//github.com/ical-org/ical.net//NONSGML ical.net 5.1.3//EN
VERSION:2.0
BEGIN:VEVENT
DESCRIPTION:FRAM – High North Research Centre for Climate and the Environ
 ment\, Nature Climate Change\, and Nature Reviews Earth and Environment ar
 e pleased to present A Changing Arctic in Tromsø.
DTEND:20200605T000000Z
DTSTAMP:20260421T093003Z
DTSTART:20200602T000000Z
LAST-MODIFIED:20200511T135238Z
LOCATION:Clarion Hotel The Edge\, Tromsø\, Norway
SEQUENCE:0
SUMMARY:POSTPONED: A Changing Arctic 2020
UID:b8a1e176-1d9a-4bc3-94eb-bcddbde98f1c@www.uarctic.org
URL:https://www.uarctic.org/about-us/calendar/postponed-a-changing-arctic-2
 020/
END:VEVENT
END:VCALENDAR
