BEGIN:VCALENDAR
PRODID:-//github.com/ical-org/ical.net//NONSGML ical.net 5.1.3//EN
VERSION:2.0
BEGIN:VEVENT
DESCRIPTION:This 3-day meeting will address the theme of Residencies and Su
 stainability from different angles – The sustainability of the arts resi
 dencies field\; Indigenous aspects\; Interdisciplinary residencies\; the i
 ntersections between curators and residencies\; and the concept of ‘ethi
 cal tourism’.
DTEND:20180620T000000Z
DTSTAMP:20260421T043054Z
DTSTART:20180618T000000Z
LAST-MODIFIED:20180110T114406Z
LOCATION:Rovaniemi\, FInland 
SEQUENCE:0
SUMMARY:Res Artis Meeting - Exploring Sustainability Under the Midnight Sun
  
UID:68f1e562-400c-4a81-8657-6fcdab1c6434@www.uarctic.org
URL:https://www.uarctic.org/about-us/calendar/res-artis-meeting-exploring-s
 ustainability-under-the-midnight-sun/
END:VEVENT
END:VCALENDAR
