BEGIN:VCALENDAR
PRODID:-//github.com/ical-org/ical.net//NONSGML ical.net 5.1.3//EN
VERSION:2.0
BEGIN:VEVENT
DESCRIPTION:Rovaniemi Arctic Spirit Conference 2021 will take place on Nove
 mber 16-17\, 2021. The conference discusses current and future development
 s in the Arctic with focus on European Arctic regions.
DTEND:20211117T000000Z
DTSTAMP:20260421T034700Z
DTSTART:20211116T000000Z
LAST-MODIFIED:20211018T142424Z
LOCATION:Rovaniemi\, Finland
SEQUENCE:0
SUMMARY:Rovaniemi Arctic Spirit 2021
UID:cecdbcb4-b895-4805-a336-41b811d29bdc@www.uarctic.org
URL:https://www.uarctic.org/about-us/calendar/rovaniemi-arctic-spirit-2021/
END:VEVENT
END:VCALENDAR
