BEGIN:VCALENDAR
PRODID:-//github.com/ical-org/ical.net//NONSGML ical.net 5.1.3//EN
VERSION:2.0
BEGIN:VEVENT
DESCRIPTION:The Rovaniemi Arctic Spirit Conference will take place on May 5
 –7\, 2025\, in Rovaniemi\, Finland.
DTEND:20250507T000000Z
DTSTAMP:20260420T172543Z
DTSTART:20250505T000000Z
LAST-MODIFIED:20241023T143456Z
LOCATION:Rovaniemi\, Finland
SEQUENCE:0
SUMMARY:Rovaniemi Arctic Spirit Conference 2025
UID:cc7665c9-8ddd-4e32-b552-b574004908c4@www.uarctic.org
URL:https://www.uarctic.org/about-us/calendar/rovaniemi-arctic-spirit-confe
 rence-2025/
END:VEVENT
END:VCALENDAR
