BEGIN:VCALENDAR
PRODID:-//github.com/ical-org/ical.net//NONSGML ical.net 5.1.3//EN
VERSION:2.0
BEGIN:VEVENT
DESCRIPTION:The Government of Iceland\, with financial support from the Nor
 dic Council of Ministers\, will host the Second International Symposium on
  Plastics in the Arctic and Sub-Arctic Region at Harpa\, Reykjavík Concer
 t Hall and Conference Center\, 22-23 November 2023.
DTEND:20231123T000000Z
DTSTAMP:20260421T020349Z
DTSTART:20231122T000000Z
LAST-MODIFIED:20230202T072830Z
LOCATION:Reykjavík
SEQUENCE:0
SUMMARY:Second International Symposium on Plastic Pollution in the Arctic a
 nd Sub-Arctic Regions
UID:687890d6-8b54-4738-ab4f-ce4c8f280b43@www.uarctic.org
URL:https://www.uarctic.org/about-us/calendar/second-international-symposiu
 m-on-plastic-pollution-in-the-arctic-and-sub-arctic-regions/
END:VEVENT
END:VCALENDAR
