BEGIN:VCALENDAR
PRODID:-//github.com/ical-org/ical.net//NONSGML ical.net 5.1.3//EN
VERSION:2.0
BEGIN:VEVENT
DESCRIPTION:The 3rd International St Magnus Conference will be held in the 
 Orkney Islands 14-16 April 2016. "Visualising the North" is the theme of t
 he forthcoming conference. How do people visualise the North? What constit
 utes “northness” and how is north perceived in contrast to other direc
 tions? You can find more information on the theme on our "call for papers"
  page.
DTEND:20160416T000000Z
DTSTAMP:20260420T074335Z
DTSTART:20160414T000000Z
LAST-MODIFIED:20150423T154230Z
LOCATION:Orkney Islands\, Scotland\, UK
SEQUENCE:0
SUMMARY:St. Magnus Conference: Visualising the North\, UHI Orkney
UID:655390bb-bf37-4623-8ff1-f2281ed9dcea@www.uarctic.org
URL:https://www.uarctic.org/about-us/calendar/st-magnus-conference-visualis
 ing-the-north-uhi-orkney-college/
END:VEVENT
END:VCALENDAR
