BEGIN:VCALENDAR
PRODID:-//github.com/ical-org/ical.net//NONSGML ical.net 5.1.3//EN
VERSION:2.0
BEGIN:VEVENT
DESCRIPTION:The ICASS IX will take place in Umeå\, Sweden on the 8 - 12 of
  june 2017.
DTEND:20170612T000000Z
DTSTAMP:20260420T233044Z
DTSTART:20170608T000000Z
LAST-MODIFIED:20170127T091149Z
LOCATION:Umeå\, Sweden
SEQUENCE:0
SUMMARY:The International Congress of Arctic Social Sciences (ICASS) IX 201
 7
UID:e8947214-6569-4158-939c-27e295909ba4@www.uarctic.org
URL:https://www.uarctic.org/about-us/calendar/the-international-congress-of
 -arctic-social-sciences-icass-ix-2017/
END:VEVENT
END:VCALENDAR
