BEGIN:VCALENDAR
PRODID:-//github.com/ical-org/ical.net//NONSGML ical.net 5.1.3//EN
VERSION:2.0
BEGIN:VEVENT
DESCRIPTION:Held in Finland\, the 2nd UArctic Congress will bring together 
 key UArctic meetings and a science conference into one single gathering\, 
 including business meetings of the Council of UArctic\, Rectors’ Forum\,
  Student Forum\, Thematic Networks and UArctic Institutes Leadership Team.
  The purpose of the Congress is to contribute to meaningful dialogue betwe
 en different representatives of member organizations on UArctic and topica
 l issues in higher education and research in the Arctic. The science confe
 rence will serve as a public event to highlight the themes and priorities 
 set by Finland for its Chairmanship of the Arctic Council (2017–2019).
DTEND:20180907T000000Z
DTSTAMP:20260421T152151Z
DTSTART:20180903T000000Z
LAST-MODIFIED:20170524T131338Z
LOCATION:
SEQUENCE:0
SUMMARY:UArctic Congress 2018
UID:64fd3e96-9ac1-466d-9948-489e48cee49d@www.uarctic.org
URL:https://www.uarctic.org/about-us/calendar/uarctic-congress-2018/
END:VEVENT
END:VCALENDAR
