BEGIN:VCALENDAR
PRODID:-//github.com/ical-org/ical.net//NONSGML ical.net 5.1.3//EN
VERSION:2.0
BEGIN:VEVENT
DESCRIPTION:The next UArctic Congress will be held in May 2021 in Reykjavik
 \, Iceland.
DTEND:20210518T000000Z
DTSTAMP:20260421T020120Z
DTSTART:20210515T000000Z
LAST-MODIFIED:20201005T135544Z
LOCATION:Reykjavik\, Iceland
SEQUENCE:0
SUMMARY:UArctic Congress 2021
UID:49c17dc1-084f-4303-8878-672f011d1597@www.uarctic.org
URL:https://www.uarctic.org/about-us/calendar/uarctic-congress-2021/
END:VEVENT
END:VCALENDAR
