BEGIN:VCALENDAR
PRODID:-//github.com/ical-org/ical.net//NONSGML ical.net 5.1.3//EN
VERSION:2.0
BEGIN:VEVENT
DESCRIPTION:The meeting is hosted by Ilisimatusarfik/University of Greenla
 nd\, in collaboration with other UArctic members in Greenland.\nTo registe
 r go to the 2017 Council Meeting webpage http://internal.uarctic.org/gover
 nance/council/council-2017
DTEND:20170817T000000Z
DTSTAMP:20260420T180901Z
DTSTART:20170815T000000Z
LAST-MODIFIED:20170510T135952Z
LOCATION:Nuuk\, Greenland
SEQUENCE:0
SUMMARY:Council of UArctic meeting 2017
UID:77f01e56-86e2-4123-94af-f075aa1c1417@www.uarctic.org
URL:https://www.uarctic.org/about-us/calendar/uarctic-council-meeting-2017/
END:VEVENT
END:VCALENDAR
