BEGIN:VCALENDAR
PRODID:-//github.com/ical-org/ical.net//NONSGML ical.net 5.1.3//EN
VERSION:2.0
BEGIN:VEVENT
DESCRIPTION:Leaders of UArctic's higher education institutions are invited 
 to the 11th UArctic Rectors’ Forum\, hosted by the University of Aberdee
 n\, Scotland\, from August 23rd to 25th\, 2017. Registration for the meeti
 ng is now open.
DTEND:20170826T170000Z
DTSTAMP:20260420T181935Z
DTSTART:20170823T090000Z
LAST-MODIFIED:20170301T152522Z
LOCATION:Aberdeen\, UK
SEQUENCE:0
SUMMARY:UArctic Rectors' Forum 2017\, Aberdeen
UID:9c2cccef-aa41-4fde-9a6d-d24c30f64d65@www.uarctic.org
URL:https://www.uarctic.org/about-us/calendar/uarctic-rectors-forum-2017-ab
 erdeen/
END:VEVENT
END:VCALENDAR
