BEGIN:VCALENDAR
PRODID:-//github.com/ical-org/ical.net//NONSGML ical.net 5.1.3//EN
VERSION:2.0
BEGIN:VEVENT
DESCRIPTION:
DTEND:20211206T000000Z
DTSTAMP:20260420T232734Z
DTSTART:20211206T000000Z
LAST-MODIFIED:20210531T104839Z
LOCATION:Versailles\, France
SEQUENCE:0
SUMMARY:UArctic Rectors' Meeting
UID:7b504152-3d20-4494-a082-836ffd484351@www.uarctic.org
URL:https://www.uarctic.org/about-us/calendar/uarctic-rectors-meeting/
END:VEVENT
END:VCALENDAR
