BEGIN:VCALENDAR
PRODID:-//github.com/ical-org/ical.net//NONSGML ical.net 5.1.3//EN
VERSION:2.0
BEGIN:VEVENT
DESCRIPTION:Celebrating a Successful US Chairmanship\nThe Alaska Arctic Cou
 ncil Host Committee welcomes visiting delegations to the End of Chairmansh
 ip activities planned to coincide with the Arctic Council Ministerial. Fai
 rbanks and Anchorage\, Alaska\, USA
DTEND:20170514T170000Z
DTSTAMP:20260420T074206Z
DTSTART:20170508T090000Z
LAST-MODIFIED:20170127T093103Z
LOCATION:Fairbanks and Anchorage\, Alaska\, USA
SEQUENCE:0
SUMMARY:Week of the Arctic\, Alaska
UID:5ce47955-d401-473a-87c7-8e8fd9ac35da@www.uarctic.org
URL:https://www.uarctic.org/about-us/calendar/week-of-the-arctic-alaska/
END:VEVENT
END:VCALENDAR
